BEGIN:VCALENDAR
VERSION:2.0
PRODID:-//Landesverband Selbsthilfe Körperbehinderter Menschen Baden-Württemberg e.V. - ECPv6.15.20//NONSGML v1.0//EN
CALSCALE:GREGORIAN
METHOD:PUBLISH
X-WR-CALNAME:Landesverband Selbsthilfe Körperbehinderter Menschen Baden-Württemberg e.V.
X-ORIGINAL-URL:https://www.lsk-bw.de
X-WR-CALDESC:Veranstaltungen für Landesverband Selbsthilfe Körperbehinderter Menschen Baden-Württemberg e.V.
REFRESH-INTERVAL;VALUE=DURATION:PT1H
X-Robots-Tag:noindex
X-PUBLISHED-TTL:PT1H
BEGIN:VTIMEZONE
TZID:Europe/Helsinki
BEGIN:DAYLIGHT
TZOFFSETFROM:+0200
TZOFFSETTO:+0300
TZNAME:EEST
DTSTART:20250330T010000
END:DAYLIGHT
BEGIN:STANDARD
TZOFFSETFROM:+0300
TZOFFSETTO:+0200
TZNAME:EET
DTSTART:20251026T010000
END:STANDARD
BEGIN:DAYLIGHT
TZOFFSETFROM:+0200
TZOFFSETTO:+0300
TZNAME:EEST
DTSTART:20260329T010000
END:DAYLIGHT
BEGIN:STANDARD
TZOFFSETFROM:+0300
TZOFFSETTO:+0200
TZNAME:EET
DTSTART:20261025T010000
END:STANDARD
BEGIN:DAYLIGHT
TZOFFSETFROM:+0200
TZOFFSETTO:+0300
TZNAME:EEST
DTSTART:20270328T010000
END:DAYLIGHT
BEGIN:STANDARD
TZOFFSETFROM:+0300
TZOFFSETTO:+0200
TZNAME:EET
DTSTART:20271031T010000
END:STANDARD
END:VTIMEZONE
BEGIN:VEVENT
DTSTART;TZID=Europe/Helsinki:20260226T190000
DTEND;TZID=Europe/Helsinki:20260226T200000
DTSTAMP:20260423T010128
CREATED:20260203T094012Z
LAST-MODIFIED:20260203T095306Z
UID:6807-1772132400-1772136000@www.lsk-bw.de
SUMMARY:Fachgespräch am 26. Februar von 19:00 bis 20:00 Uhr mit Matthias Henn Anwalt für Erbrecht - LSK am Donnerstag
DESCRIPTION:Liebe Mitglieder\, Liebe Interessierte\,\n\n\n \n\n\nwir freuen uns mit dem LSK am Donnerstag – Das Fachgespräch wieder durchstarten zu dürfen! 💪🦾\n\n\n \n\n\nDirekt am 26. Februar 2026 starten wir von 19:00 bis 20:00 Uhr per Online-Konferenz in Zoom mit unserem ersten Fachgespräch des Jahres:\n\n\nHerrn Matthias Henn – Fachanwalt für Erbrecht.\n\n\n \n\n\nMatthias Henn bringt ein tolles Thema mit:\n\n\nMein letzter Wille – ein Testament\, das wirklich wirkt\n\n\n \n\n\n Erfahren Sie unterhaltsam und praxisnah\, worauf es bei den Formalien wirklich ankommt und welche Fehler Sie vermeiden sollten. Für alle\, die Klarheit schaffen wollen – für sich selbst und für die Menschen\, die ihnen wichtig sind.\n\n\n \n\n\nDie Teilnahme ist kostenlos unter den unteren Links möglich:\n\n\n \n\n\nhttps://us02web.zoom.us/j/84373093354?pwd=ZuqOtg32OhLd96P99e61JW91upHz9p.1\n\n\n \n\n\nMeeting-ID: 843 7309 3354\n\n\nKenncode: 626066\n\n\n \n\n\nBeitreten – So geht’s\n\n\nhttps://us02web.zoom.us/meetings/84373093354/invitations?signature=VS2U08bBv2CkUUb8FAjd7Ylf8kOvW2Zt66F-SL6Uxmw\n\n\n\n\n\n\nWir sagen herzlichen Dank an Herrn Matthias Henn und freuen uns auf rege Teilnahme. 😊\n\n\n 
URL:https://www.lsk-bw.de/event/fachgespraech-am-26-februar-von-1900-bis-2000-uhr-mit-matthias-henn-anwalt-fuer-erbrecht-lsk-am-donnerstag/
LOCATION:Online
CATEGORIES:LSK am Donnerstag
ATTACH;FMTTYPE=image/png:https://www.lsk-bw.de/wp-content/uploads/2026/02/LSK-am-Donnerstag-Das-Fachgespraech.png
END:VEVENT
END:VCALENDAR