BEGIN:VCALENDAR
VERSION:2.0
PRODID:-//Landesverband Selbsthilfe Körperbehinderter Menschen Baden-Württemberg e.V. - ECPv6.15.20//NONSGML v1.0//EN
CALSCALE:GREGORIAN
METHOD:PUBLISH
X-WR-CALNAME:Landesverband Selbsthilfe Körperbehinderter Menschen Baden-Württemberg e.V.
X-ORIGINAL-URL:https://www.lsk-bw.de
X-WR-CALDESC:Veranstaltungen für Landesverband Selbsthilfe Körperbehinderter Menschen Baden-Württemberg e.V.
REFRESH-INTERVAL;VALUE=DURATION:PT1H
X-Robots-Tag:noindex
X-PUBLISHED-TTL:PT1H
BEGIN:VTIMEZONE
TZID:Europe/Paris
BEGIN:DAYLIGHT
TZOFFSETFROM:+0100
TZOFFSETTO:+0200
TZNAME:CEST
DTSTART:20250330T010000
END:DAYLIGHT
BEGIN:STANDARD
TZOFFSETFROM:+0200
TZOFFSETTO:+0100
TZNAME:CET
DTSTART:20251026T010000
END:STANDARD
BEGIN:DAYLIGHT
TZOFFSETFROM:+0100
TZOFFSETTO:+0200
TZNAME:CEST
DTSTART:20260329T010000
END:DAYLIGHT
BEGIN:STANDARD
TZOFFSETFROM:+0200
TZOFFSETTO:+0100
TZNAME:CET
DTSTART:20261025T010000
END:STANDARD
BEGIN:DAYLIGHT
TZOFFSETFROM:+0100
TZOFFSETTO:+0200
TZNAME:CEST
DTSTART:20270328T010000
END:DAYLIGHT
BEGIN:STANDARD
TZOFFSETFROM:+0200
TZOFFSETTO:+0100
TZNAME:CET
DTSTART:20271031T010000
END:STANDARD
END:VTIMEZONE
BEGIN:VEVENT
DTSTART;TZID=Europe/Paris:20260423T190000
DTEND;TZID=Europe/Paris:20260423T200000
DTSTAMP:20260423T025531
CREATED:20260402T112408Z
LAST-MODIFIED:20260402T112728Z
UID:7092-1776970800-1776974400@www.lsk-bw.de
SUMMARY:Fachgespräch am 23. April von 19:00 bis 20:00 Uhr mit Matthias Henn Anwalt für Erbrecht – LSK am Donnerstag
DESCRIPTION:Liebe Mitglieder\, Liebe Interessierte\, \n\n \n\n\nwir freuen uns auf den nächsten dem LSK am Donnerstag – Das Fachgespräch! \n\n\n \n\n\nDirekt am 23. April 2026 starten wir von 19:00 bis 20:00 Uhr per Online-Konferenz in Zoom mit unserem Fachgespräch:\n\n\n\nHerrn Matthias Henn – Fachanwalt für Erbrecht.\n\n\n \n\n\nMatthias Henn bringt ein tolles Thema mit:\n\n\n\nVorweggenommene Erbfolge – Vermögen strategisch weitergeben\, Streit vermeiden und Steuern sparen \nFachanwalt für Erbrecht Matthias Henn erklärt\, wie man bereits zu Lebzeiten Vermögen strukturiert übertragen und so für die nächste Generation erhalten kann. \n\n\n\n \n\n\nDie Teilnahme ist kostenlos unter den unteren Links möglich:\n\nLSK BW lädt Sie zu einem geplanten Zoom-Meeting ein: \nhttps://us02web.zoom.us/j/81135796346?pwd=Ald3J6HHVHCamixzGQWEa2QSl0zTfh.1 \nMeeting-ID: 811 3579 6346\nKenncode: 065570 \n— \nBeitreten – So geht’s\nhttps://us02web.zoom.us/meetings/81135796346/invitations?signature=vfzP4QkpsypqujYv1-fkveYLrLYf3GA78iR9EUBwbTU \n 
URL:https://www.lsk-bw.de/event/fachgespraech-am-23-april-von-1900-bis-2000-uhr-mit-matthias-henn-anwalt-fuer-erbrecht-lsk-am-donnerstag/
LOCATION:Online
ATTACH;FMTTYPE=image/png:https://www.lsk-bw.de/wp-content/uploads/2026/04/LSK-am-Donnerstag-Das-Fachgespraech-1.png
END:VEVENT
END:VCALENDAR