BEGIN:VCALENDAR
VERSION:2.0
PRODID:-//Landesverband Selbsthilfe Körperbehinderter Menschen Baden-Württemberg e.V. - ECPv6.15.20//NONSGML v1.0//EN
CALSCALE:GREGORIAN
METHOD:PUBLISH
X-ORIGINAL-URL:https://www.lsk-bw.de
X-WR-CALDESC:Veranstaltungen für Landesverband Selbsthilfe Körperbehinderter Menschen Baden-Württemberg e.V.
REFRESH-INTERVAL;VALUE=DURATION:PT1H
X-Robots-Tag:noindex
X-PUBLISHED-TTL:PT1H
BEGIN:VTIMEZONE
TZID:Europe/Paris
BEGIN:DAYLIGHT
TZOFFSETFROM:+0100
TZOFFSETTO:+0200
TZNAME:CEST
DTSTART:20250330T010000
END:DAYLIGHT
BEGIN:STANDARD
TZOFFSETFROM:+0200
TZOFFSETTO:+0100
TZNAME:CET
DTSTART:20251026T010000
END:STANDARD
BEGIN:DAYLIGHT
TZOFFSETFROM:+0100
TZOFFSETTO:+0200
TZNAME:CEST
DTSTART:20260329T010000
END:DAYLIGHT
BEGIN:STANDARD
TZOFFSETFROM:+0200
TZOFFSETTO:+0100
TZNAME:CET
DTSTART:20261025T010000
END:STANDARD
BEGIN:DAYLIGHT
TZOFFSETFROM:+0100
TZOFFSETTO:+0200
TZNAME:CEST
DTSTART:20270328T010000
END:DAYLIGHT
BEGIN:STANDARD
TZOFFSETFROM:+0200
TZOFFSETTO:+0100
TZNAME:CET
DTSTART:20271031T010000
END:STANDARD
END:VTIMEZONE
BEGIN:VEVENT
DTSTART;TZID=Europe/Paris:20260326T190000
DTEND;TZID=Europe/Paris:20260326T200000
DTSTAMP:20260423T010248
CREATED:20260310T104501Z
LAST-MODIFIED:20260310T104501Z
UID:7080-1774551600-1774555200@www.lsk-bw.de
SUMMARY:LSK am Donnerstag: Das Fachgespräch "Förderungsmöglichkeiten beim barrierefreien Autoumbau" mit Alexander Heiderich von Paracar
DESCRIPTION:Liebe Mitglieder\, Liebe Interessierte\,wir freuen uns auf den nächsten Termin des LSK am Donnerstag – Das Fachgespräch! Am 26. März 2026 starten wir von 19:00 Uhr bis 20:00 Uhr per Online-Konferenz in Zoom mit unserem zweiten Fachgespräch:Herrn Alexander Heiderich – Fachberater für Mobilität und Geschäftsführer von ParaCAR(E) Mobilitätsservice GmbH.Alexander Heiderich bringt ein tolles Thema mit:Förderungsmöglichkeiten beim barrierefreien Autoumbau \n• Fördermöglichkeiten & Kostenträger beim barrierefreien Fahrzeugumbau\nZuständigkeiten (z. B. Krankenkasse\, Rentenversicherung\, Agentur für Arbeit\, Integrationsamt)\, Voraussetzungen\, Förderlogik und praxisnahe Orientierung für Betroffene \n• Von der Idee zur passenden Lösung – Ablauf\, Praxis & typische Stolperfallen\nBedarf realistisch einschätzen\, sinnvolle Lösungswege vergleichen\, Reihenfolge im Antrags- und Umsetzungsprozess\, häufige Fehler vermeiden und fundierte Entscheidungen vor dem Umbau treffen \n• Führerscheinerwerb\, Fahrtauglichkeitsprüfung & Führerscheinweiterführung\nWie Begutachtungen und Fahrproben ablaufen\, welche Stellen beteiligt sind\, was Schlüsselzahlen im Führerschein bedeuten und wie Mobilität rechtssicher erhalten oder neu erlangt werden kann \nDie Teilnahme ist kostenlos und hier gibt es den Link zur Zoom-Konferenz:\nhttps://us02web.zoom.us/j/86068710163?pwd=nACORWZBfUa2qzq0usUIxCRt0GW9fC.1Wir sagen herzlichen Dank an Herrn Alexander Heiderich und freuen uns auf rege Teilnahme. Euer LSK BW e. V.
URL:https://www.lsk-bw.de/event/lsk-am-donnerstag-das-fachgespraech-foerderungsmoeglichkeiten-beim-barrierefreien-autoumbau-mit-alexander-heiderich-von-paracar/
LOCATION:LSK am Donnerstag – Das Fachgespräch
ATTACH;FMTTYPE=image/png:https://www.lsk-bw.de/wp-content/uploads/2026/03/LSK-am-Donnerstag-Das-Fachgespraech-1-e1773139975390.png
ORGANIZER;CN="LSK BW e. V.":MAILTO:info@lsk-bw.de
END:VEVENT
END:VCALENDAR